BEGIN:VCALENDAR
VERSION:2.0
PRODID:-//Brazilian Jiu Jitsu Sri Lanka | The Gentle Art - ECPv6.15.11//NONSGML v1.0//EN
CALSCALE:GREGORIAN
METHOD:PUBLISH
X-ORIGINAL-URL:https://bjjsrilanka.com
X-WR-CALDESC:Events for Brazilian Jiu Jitsu Sri Lanka | The Gentle Art
REFRESH-INTERVAL;VALUE=DURATION:PT1H
X-Robots-Tag:noindex
X-PUBLISHED-TTL:PT1H
BEGIN:VTIMEZONE
TZID:Asia/Kolkata
BEGIN:STANDARD
TZOFFSETFROM:+0530
TZOFFSETTO:+0530
TZNAME:IST
DTSTART:20170101T000000
END:STANDARD
END:VTIMEZONE
BEGIN:VTIMEZONE
TZID:UTC
BEGIN:STANDARD
TZOFFSETFROM:+0000
TZOFFSETTO:+0000
TZNAME:UTC
DTSTART:20160101T000000
END:STANDARD
END:VTIMEZONE
BEGIN:VEVENT
DTSTART;TZID=Asia/Kolkata:20181202T173000
DTEND;TZID=Asia/Kolkata:20181202T183000
DTSTAMP:20260423T160705
CREATED:20181113T031807Z
LAST-MODIFIED:20181113T031807Z
UID:266-1543771800-1543775400@bjjsrilanka.com
SUMMARY:Free BJJ seminar for women by female instructor
DESCRIPTION:Free Self Defense Seminar based on BBJ conduct by Apeksha Kakkar \, Blue belt 4 stripes. All ladies are welcome!
URL:https://bjjsrilanka.com/event/free-bjj-seminar-for-women-by-female-instructor/
LOCATION:The SHED\, 97/9\, Thilaka Gardens\, Nugegoda\, Western\, 10250\, Sri Lanka
ORGANIZER;CN="Brazilian Jiu Jitsu Sri Lanka":MAILTO:info@bjjsrilanka.com
END:VEVENT
BEGIN:VEVENT
DTSTART;TZID=Asia/Kolkata:20181129T193000
DTEND;TZID=Asia/Kolkata:20181202T110000
DTSTAMP:20260423T160706
CREATED:20181113T030037Z
LAST-MODIFIED:20181113T030551Z
UID:258-1543519800-1543748400@bjjsrilanka.com
SUMMARY:BJJ Gi and No Gi Camp 2018
DESCRIPTION:No-Gi Camp  29-30 Nov 7.30pm – 9.30pm \nGi Camp 1 – 2 Dec  9 am to 11 am \n  \nSeminar series conduct by Arun Sharma (Brown Belt – 2 stripes)\, head instructor of BJJ India.\nWe have No-gi camp and Gi camp\nWalk in – 1500LKR (per seminar) \nEarly bird registration – On or before 22nd of November\n1x camp – 3000 LKR\n2x camps – 5000LKR \nName : Sri Lanka School of Jeet Kune Do\nA/C number: 1092 1400 6640\nBank/Branch: Sampath Bank /Maharagama Super Grade \nRegular registration\n1x camp – 4000 LKR\n2x camps – 6000LKR
URL:https://bjjsrilanka.com/event/bjj-camp-2018/
LOCATION:The SHED\, 97/9\, Thilaka Gardens\, Nugegoda\, Western\, 10250\, Sri Lanka
END:VEVENT
BEGIN:VEVENT
DTSTART;TZID=UTC:20171208T190000
DTEND;TZID=UTC:20171210T220000
DTSTAMP:20260423T160706
CREATED:20171119T071008Z
LAST-MODIFIED:20171119T071008Z
UID:187-1512759600-1512943200@bjjsrilanka.com
SUMMARY:BJJ Super Camp Seminar series 2017
DESCRIPTION:First ever super camp seminar series by BJJSL with Rodrigo Teixeira and Pedro Wolff and Arun Sharma. \n*****Kids seminar is free of charge \nOne Seminar – 3000 LKR\nAny Two Seminars -4000 LKR\nAny Three Seminars – 5500 LKR\nAll Seminars 6000 LKR\n* Special offer : register for three or more seminars you will get a free pass for grand seminar. \n\nFor more information please contact info@bjjsrilanka.com or 0772325525/ 0773917086 / 0767341179
URL:https://bjjsrilanka.com/event/bjj-super-camp-seminar-series-2017/
LOCATION:The SHED\, 97/9\, Thilaka Gardens\, Nugegoda\, Western\, 10250\, Sri Lanka
ORGANIZER;CN="Brazilian Jiu Jitsu Sri Lanka":MAILTO:info@bjjsrilanka.com
END:VEVENT
BEGIN:VEVENT
DTSTART;TZID=UTC:20171102T190000
DTEND;TZID=UTC:20171102T213000
DTSTAMP:20260423T160706
CREATED:20171009T033030Z
LAST-MODIFIED:20171027T053258Z
UID:176-1509649200-1509658200@bjjsrilanka.com
SUMMARY:BJJ for self defense
DESCRIPTION:  \n \nExpert seminar on how to use Brazilian Jiu Jitsu in a self defense situation. Conducted by coach Arun Sharma head of Brazilian Jiu Jitsu India. Purple belt third stripe under professor Rodrigo Teixeira. \n1500 per person. Any level of martial arts experience (even zero ) are welcome \n\n\n	\n\n				\n							\n				BJJ for self defense			\n		\n		\n				\n			Expert seminar on how to use Brazilian Jiu Jitsu in a self defense situation. Conducted by coach Arun Sharma head of Brazilian Jiu Jitsu India. Purple belt third stripe under professor Rodrigo Teixeira. \n1500 per person. Any level of martial arts experience (even zero ) are welcome \n		\n\n				\n							\n			×
URL:https://bjjsrilanka.com/event/bjj-for-self-defense/
LOCATION:The SHED\, 97/9\, Thilaka Gardens\, Nugegoda\, Western\, 10250\, Sri Lanka
ORGANIZER;CN="Brazilian Jiu Jitsu Sri Lanka":MAILTO:info@bjjsrilanka.com
END:VEVENT
BEGIN:VEVENT
DTSTART;TZID=UTC:20170617T150000
DTEND;TZID=UTC:20170618T120000
DTSTAMP:20260423T160706
CREATED:20170529T120330Z
LAST-MODIFIED:20170529T120330Z
UID:122-1497711600-1497787200@bjjsrilanka.com
SUMMARY:Brazilian Jiu Jitsu seminar with Prof. Marcelo Tavares
DESCRIPTION:BJJ seminar conduct by Marcelo Tavares – Brazilian Jiu Jitsu 1st degree Black Belt will be held ;\nAt The Shed Nugegoda on 17th of June 3pm – 7pm & 18th of June from 9am – 12pm\nNo prior martial art experience is needed.\n20 USD per day per head ( 3000 LKR per day)\nEarly bird registration will be 30USD for both days ( 4500 LKR) – Before 10th of June\nAttire : If you have Gi please bring them. If you dont wear a rashguard/ tight top and a short/threequarter/mma shorts or tight leggins \nYou can make the payment to the following bank account: \nName: Sri Lanka School of Jeet Kune Do \nNumber: 1092 1400 6640 \nBank: Sampath Bank \nBranch: Maharagama Super Grade \nPlease mention your name on the remarks \nContact 0772325525/ 0773917086\nEmail : info@bjjsrilanka.com
URL:https://bjjsrilanka.com/event/brazilian-jiu-jitsu-seminar-with-prof-marcelo-tavares/
LOCATION:The SHED\, 97/9\, Thilaka Gardens\, Nugegoda\, Western\, 10250\, Sri Lanka
END:VEVENT
END:VCALENDAR